BEGIN:VCALENDAR
VERSION:2.0
PRODID:-//FC1869//CS
BEGIN:VEVENT
DTSTAMP:20260419T173112Z
DTSTART:20090606T080000Z
DTEND:20090606T090000Z
SUMMARY:10. Alej FK B - New Jersey Devils B  ! možná kolize barvy dresů !
LOCATION:ALBRE
UID:69e51160340bd@FC1869
END:VEVENT
END:VCALENDAR