BEGIN:VCALENDAR
VERSION:2.0
PRODID:-//FC1869//CS
BEGIN:VEVENT
DTSTAMP:20260419T173111Z
DTSTART:20090516T064500Z
DTEND:20090516T074500Z
SUMMARY:8. Alej FK B - Blue flame  ! možná kolize barvy dresů !
LOCATION:DEKAN
UID:69e5115ff39bd@FC1869
END:VEVENT
END:VCALENDAR