BEGIN:VCALENDAR
VERSION:2.0
PRODID:-//FC1869//CS
BEGIN:VEVENT
DTSTAMP:20260419T205145Z
DTSTART:20040403T091500Z
DTEND:20040403T101500Z
SUMMARY:1. Blue flame - Veleslavín Viktoria
LOCATION:K3
UID:69e5406145d88@FC1869
END:VEVENT
END:VCALENDAR