BEGIN:VCALENDAR
VERSION:2.0
PRODID:-//FC1869//CS
BEGIN:VEVENT
DTSTAMP:20260419T190919Z
DTSTART:20040403T064500Z
DTEND:20040403T074500Z
SUMMARY:1. Hoptajch team - Ukradený širáci
LOCATION:KBELY
UID:69e5285f08897@FC1869
END:VEVENT
END:VCALENDAR