BEGIN:VCALENDAR
VERSION:2.0
PRODID:-//FC1869//CS
BEGIN:VEVENT
DTSTAMP:20260419T190956Z
DTSTART:20040417T080000Z
DTEND:20040417T090000Z
SUMMARY:2. UNI - Lužiny - Hoptajch team
LOCATION:K6
UID:69e5288420ecf@FC1869
END:VEVENT
END:VCALENDAR