BEGIN:VCALENDAR
VERSION:2.0
PRODID:-//FC1869//CS
BEGIN:VEVENT
DTSTAMP:20260419T205145Z
DTSTART:20040501T064500Z
DTEND:20040501T074500Z
SUMMARY:4. Veleslavín Viktoria - No madam! A
LOCATION:K3
UID:69e54061c0692@FC1869
END:VEVENT
END:VCALENDAR