BEGIN:VCALENDAR
VERSION:2.0
PRODID:-//FC1869//CS
BEGIN:VEVENT
DTSTAMP:20260419T190919Z
DTSTART:20040508T091500Z
DTEND:20040508T101500Z
SUMMARY:5. Hoptajch team - Veleslavín Viktoria
LOCATION:K1
UID:69e5285f08aca@FC1869
END:VEVENT
END:VCALENDAR