BEGIN:VCALENDAR
VERSION:2.0
PRODID:-//FC1869//CS
BEGIN:VEVENT
DTSTAMP:20260419T205145Z
DTSTART:20040424T091500Z
DTEND:20040424T101500Z
SUMMARY:3. FC 1869 - Veleslavín Viktoria
LOCATION:K3
UID:69e5406121965@FC1869
END:VEVENT
END:VCALENDAR