BEGIN:VCALENDAR
VERSION:2.0
PRODID:-//FC1869//CS
BEGIN:VEVENT
DTSTAMP:20260419T205224Z
DTSTART:20040515T080000Z
DTEND:20040515T090000Z
SUMMARY:6. Veleslavín Viktoria - Terron AC Bozi B
LOCATION:K1
UID:69e540889e0a4@FC1869
END:VEVENT
END:VCALENDAR