BEGIN:VCALENDAR
VERSION:2.0
PRODID:-//FC1869//CS
BEGIN:VEVENT
DTSTAMP:20260419T190935Z
DTSTART:20040501T091500Z
DTEND:20040501T101500Z
SUMMARY:4. FC 1869 - Hoptajch team
LOCATION:K2
UID:69e5286fa837e@FC1869
END:VEVENT
END:VCALENDAR