BEGIN:VCALENDAR
VERSION:2.0
PRODID:-//FC1869//CS
BEGIN:VEVENT
DTSTAMP:20260419T205311Z
DTSTART:20040529T091500Z
DTEND:20040529T101500Z
SUMMARY:8. Veleslavín Viktoria - Ukradený širáci
LOCATION:KBELY
UID:69e540b7a3664@FC1869
END:VEVENT
END:VCALENDAR