BEGIN:VCALENDAR
VERSION:2.0
PRODID:-//FC1869//CS
BEGIN:VEVENT
DTSTAMP:20260419T190919Z
DTSTART:20040529T080000Z
DTEND:20040529T090000Z
SUMMARY:8. Hoptajch team - Jabadabadoo Prosek
LOCATION:K6
UID:69e5285f9db63@FC1869
END:VEVENT
END:VCALENDAR