BEGIN:VCALENDAR
VERSION:2.0
PRODID:-//FC1869//CS
BEGIN:VEVENT
DTSTAMP:20260419T205311Z
DTSTART:20040612T091500Z
DTEND:20040612T101500Z
SUMMARY:10. Veleslavín Viktoria - UNI - Lužiny
LOCATION:K1
UID:69e540b728432@FC1869
END:VEVENT
END:VCALENDAR