BEGIN:VCALENDAR
VERSION:2.0
PRODID:-//FC1869//CS
BEGIN:VEVENT
DTSTAMP:20260419T190956Z
DTSTART:20040612T064500Z
DTEND:20040612T074500Z
SUMMARY:10. Hoptajch team - No madam! A
LOCATION:K3
UID:69e52884da201@FC1869
END:VEVENT
END:VCALENDAR