BEGIN:VCALENDAR
VERSION:2.0
PRODID:-//FC1869//CS
BEGIN:VEVENT
DTSTAMP:20260419T205225Z
DTSTART:20040626T064500Z
DTEND:20040626T074500Z
SUMMARY:11. Jabadabadoo Prosek - Veleslavín Viktoria
LOCATION:ZL
UID:69e5408903452@FC1869
END:VEVENT
END:VCALENDAR