BEGIN:VCALENDAR
VERSION:2.0
PRODID:-//FC1869//CS
BEGIN:VEVENT
DTSTAMP:20260419T190934Z
DTSTART:20040626T064500Z
DTEND:20040626T074500Z
SUMMARY:11. Terron AC Bozi B - Hoptajch team
LOCATION:K1
UID:69e5286ee525d@FC1869
END:VEVENT
END:VCALENDAR