BEGIN:VCALENDAR
VERSION:2.0
PRODID:-//FC1869//CS
BEGIN:VEVENT
DTSTAMP:20260419T085242Z
DTSTART:20070414T130000Z
DTEND:20070414T140000Z
SUMMARY:3. Delivery FC - Alvarez D. C.
LOCATION:DEKAN
UID:69e497da85f97@FC1869
END:VEVENT
END:VCALENDAR