BEGIN:VCALENDAR
VERSION:2.0
PRODID:-//FC1869//CS
BEGIN:VEVENT
DTSTAMP:20260419T085241Z
DTSTART:20070421T130000Z
DTEND:20070421T140000Z
SUMMARY:4. Atlético Cerveza - Delivery FC
LOCATION:ZARUB
UID:69e497d98596e@FC1869
END:VEVENT
END:VCALENDAR