BEGIN:VCALENDAR
VERSION:2.0
PRODID:-//FC1869//CS
BEGIN:VEVENT
DTSTAMP:20260419T205225Z
DTSTART:20061022T080000Z
DTEND:20061022T090000Z
SUMMARY:6. Veleslavín Viktoria - Pradox 1. FC
LOCATION:PANK1
UID:69e540897e1ab@FC1869
END:VEVENT
END:VCALENDAR