BEGIN:VCALENDAR
VERSION:2.0
PRODID:-//FC1869//CS
BEGIN:VEVENT
DTSTAMP:20260419T205224Z
DTSTART:20061210T101500Z
DTEND:20061210T111500Z
SUMMARY:11. JH - Veleslavín Viktoria
LOCATION:PANK2
UID:69e540889f5de@FC1869
END:VEVENT
END:VCALENDAR