BEGIN:VCALENDAR
VERSION:2.0
PRODID:-//FC1869//CS
BEGIN:VEVENT
DTSTAMP:20260419T190823Z
DTSTART:20050416T064500Z
DTEND:20050416T074500Z
SUMMARY:3. Hoptajch team - No madam! A
LOCATION:K3
UID:69e5282709d85@FC1869
END:VEVENT
END:VCALENDAR