BEGIN:VCALENDAR
VERSION:2.0
PRODID:-//FC1869//CS
BEGIN:VEVENT
DTSTAMP:20260419T190956Z
DTSTART:20050423T091500Z
DTEND:20050423T101500Z
SUMMARY:4. Řezník FC - Hoptajch team
LOCATION:HAGI1
UID:69e528845fff8@FC1869
END:VEVENT
END:VCALENDAR