BEGIN:VCALENDAR
VERSION:2.0
PRODID:-//FC1869//CS
BEGIN:VEVENT
DTSTAMP:20260419T190935Z
DTSTART:20050430T064500Z
DTEND:20050430T074500Z
SUMMARY:5. Hoptajch team - 64! FC Kobylisy
LOCATION:K2
UID:69e5286f2f7bf@FC1869
END:VEVENT
END:VCALENDAR