BEGIN:VCALENDAR
VERSION:2.0
PRODID:-//FC1869//CS
BEGIN:VEVENT
DTSTAMP:20260419T190934Z
DTSTART:20050507T080000Z
DTEND:20050507T090000Z
SUMMARY:6. Améby AFC B - Hoptajch team
LOCATION:TKSPA
UID:69e5286ee5393@FC1869
END:VEVENT
END:VCALENDAR