BEGIN:VCALENDAR
VERSION:2.0
PRODID:-//FC1869//CS
BEGIN:VEVENT
DTSTAMP:20260419T190956Z
DTSTART:20050618T064500Z
DTEND:20050618T074500Z
SUMMARY:11. Sebulba Utd. - Hoptajch team
LOCATION:HAGI3
UID:69e528842069c@FC1869
END:VEVENT
END:VCALENDAR